BEGIN:VCALENDAR
VERSION:2.0
CALSCALE:GREGORIAN
METHOD:PUBLISH
BEGIN:VEVENT
SUMMARY:la compil 80 90 2000 @ Palais des Congrès Port de Nice
DTSTART:20260228T180000Z
DTEND:20260228T230000Z
DTSTAMP:20260422T170745Z
CATEGORIES:
DESCRIPTION:\n\n\n\n\n\n\n\n\n\n\n la compil Hits 80's 90's 2000's @ Pala
 is des Congrès OCEANICE\n\n											La crème des soirées 80's 90's 20
 00's est de retour à Nice le 28 février 2026 ! \n\n											Rendez-vo
 us dès 19h au Palais des Congrès OCEANICE pour une fête déjantée ambi
 ance parc d'attraction !\n\n											Dress code : Ton plus beau petit sw
 eat à capuche vintage ! \n\n											Tubes internationaux 80's 90's 20
 00s : Tous les hits de Madonna à Gala en passant par Queen\, Britney Spea
 rs et bien d'autres qui vous ont fait vibrer durant la Hit Machine Maniaaa
 a ! Attendez-vous à des classiques qui déchaînent l’ambiance !\n\n A
 nimations : Photobox\, Taureau Mécanique\, Combat de joutes\, Machine bar
 be à Papa\, Table Air Hockey\, Beeper\, Sumos\, Panier de Basket\, Morpio
 ns XXL\, goodies...\n\n Food & Bar sur place\n\n Suivez-nous sur instagr
 am : @lacompilevents\nhttps://www.instagram.com/lacompilevents/\n\n Mineu
 rs / Enfants non autorisés\n\n Animaux de compagnie non autorisés \n\n
  Palais des Congrès OCEANICE\n											Quai Amiral Infernet\n									
 		06300 Nice \n\n\n\n\n\n\n\n\n\n\n\n	 \n
LOCATION:Quai Amiral Infernet 06300 Nice - FR
ORGANIZER:CMEA Consulting SAS
END:VEVENT
END:VCALENDAR
