BEGIN:VCALENDAR
VERSION:2.0
CALSCALE:GREGORIAN
METHOD:PUBLISH
BEGIN:VEVENT
SUMMARY:Massage Crânien pour femmes
DTSTART:20260205T083000Z
DTSTAMP:20260423T225848Z
CATEGORIES:
DESCRIPTION:Les bienfaits du massage crânien:\n. Libère les tensions du 
 cuir chevelu\, de la nuque\n. Améliore la circulations du cuir sanguine e
 t oxygène le cerveau\n. Favorise le lâcher-prise et réduit le stress\n.
 Apaise les maux de tête et les tensions nerveuses\n. Procure une sensatio
 n de calme\n. Améliore la qualité du sommeil\nUn soin idéal pour relâc
 her la pression\, retrouver de la clarté mentale et vivre une profonde d
 étente.\nPrendrez rendez-vous via le lien ci-dessous\, en selectionnant m
 assage crânien : \nhttps://terapiz.com/energeticien/ambares-et-lagrave/s
 ylvie-dupin?officeId=6yw3pn8qgwvt\nDurée : 45 Minutes\n 
LOCATION:39 rue du president rene coty 33440 AMBARES ET LAGRAVE - FR
ORGANIZER:Sylvie DUPIN
END:VEVENT
END:VCALENDAR
