BEGIN:VCALENDAR
VERSION:2.0
CALSCALE:GREGORIAN
METHOD:PUBLISH
BEGIN:VEVENT
SUMMARY:CÖDICE Almuñecar
DTSTART:20260620T150000Z
DTEND:20260621T000000Z
DTSTAMP:20260424T004621Z
CATEGORIES:
DESCRIPTION:CÖDICE ALMUÑECAR\n 20 de Junio. Parque del Acueducto\nGastr
 onomía local\, turismo y música en enclaves únicos y singulares.\nDisfr
 uta de una experiencia única con la música electrónica como eje central
 .\nSábado 20 de Junio de 17 a 02h\, con una sesión vermú de 17 a 18.30h
  donde podrás degustar vermú + gilda por 5€\, además de cervezas a 2
 €.\nZona climatizada con agua micropulverizada\n
GEO:36.7447459;-3.6897887
LOCATION:Almuñecar 18690 Almuñécar - ES
ORGANIZER:CÖDICE Experience
END:VEVENT
END:VCALENDAR
