BEGIN:VCALENDAR
VERSION:2.0
CALSCALE:GREGORIAN
METHOD:PUBLISH
BEGIN:VEVENT
SUMMARY:THE OTHER VOICES\, tribute The Cure + Virgiane chez Wood Stock Gui
 tares Ensisheim
DTSTART:20260523T180000Z
DTEND:20260523T214500Z
DTSTAMP:20260421T025820Z
CATEGORIES:
DESCRIPTION:\n\n\n\n				 \n\n\n\n\n	 \n
LOCATION:3 Rue St Exupéry\, ZA La Passerelle 68190 Ensisheim - FR
ORGANIZER:Wood Stock Guitares
END:VEVENT
END:VCALENDAR
