BEGIN:VCALENDAR
VERSION:2.0
CALSCALE:GREGORIAN
METHOD:PUBLISH
BEGIN:VEVENT
SUMMARY:Windsor Beer Festival 2026 Hosted by Windsor & Eton Brewery
DTSTART:20260724T180000Z
DTEND:20260726T190000Z
DTSTAMP:20260421T094506Z
CATEGORIES:
DESCRIPTION:About – Windsor Beer Festival 2026\nHosted by Windsor & Eton
  Brewery\nWindsor & Eton Brewery\, Windsor\, UK\n24th–26th July 2026\nRa
 ise a glass and join us for Windsor Beer Festival 2026 – an unmissable
  celebration of craft beer hosted by the award-winning Windsor & Eton Brew
 ery.\nThis year’s festival promises to be our biggest yet\, featuring o
 ver 100 exceptional keg and cask beers from some of the UK’s most loved 
 breweries\, alongside exciting new names in the craft scene. Whether you
 ’re a seasoned hophead or just beginning your beer journey\, there’s s
 omething on tap for every taste.\n \nWhat to Expect:\n\nA huge selection 
 of 100+ keg & cask beers\nExclusive brews and festival specials\nLive mu
 sic and entertainment throughout the weekend\nFood from local business t
 o perfectly pair with your pint\nBrewery tours\, meet-the-brewer sessions\
 , and more\n\n \nDay 1 Friday - The Opener\, July 24th\, 5pm - 11pm Over 
 18's Only!\nDay 2: Saturday - Games Day\, July 25th\, 12pm - 11pm Over 18'
 s Only!\nDay 3: Sunday - Family Day\, July 26th\, 12pm - 8pm\n \nJoin fel
 low beer lovers in the heart of Windsor for a weekend of flavour\, fun\, a
 nd fantastic community spirit. Don’t miss your chance to be part of one 
 of the UK’s most vibrant beer festivals.
GEO:51.4844158;-0.6172812999999999
LOCATION:1-4 Duke Street SL4 1SE Windsor - GB
ORGANIZER:Windsor & Eton Brewery
END:VEVENT
END:VCALENDAR
