BEGIN:VCALENDAR
VERSION:2.0
CALSCALE:GREGORIAN
METHOD:PUBLISH
BEGIN:VEVENT
SUMMARY:Congrès scientifique en ostéopathie AxeSO - 3ème édition 
DTSTART:20260523T123000Z
DTEND:20260523T220000Z
DTSTAMP:20260420T075816Z
CATEGORIES:
DESCRIPTION:
LOCATION:200 rue Sherbrooke Ouest H2X3P2 Montréal - CA
ORGANIZER:Axe SO
END:VEVENT
END:VCALENDAR
