BEGIN:VCALENDAR
VERSION:2.0
CALSCALE:GREGORIAN
METHOD:PUBLISH
BEGIN:VEVENT
SUMMARY:Shooting Photo OFFERT chez JMT Nanteuil-Lès-Meaux
DTSTART:20260404T080000Z
DTEND:20260404T132000Z
DTSTAMP:20260421T033819Z
CATEGORIES:
DESCRIPTION:Séance PHOTO OFFERTE dans votre magasin avec un photographe a
 nimalier professionnel\, le 04 AVRIL 2026 ! \nUne photo offerte 10x15  
 sans obligation d'achat. \nChoisissez seulement les photos que vous souha
 itez ! Places limitées\, prenez vite la vôtre ! (Un créneau + 1 photo
  offerte par foyer)  
GEO:48.9394576;2.8803778
LOCATION:9 Avenue de la Foulée 77100 Nanteuil-lès-Meaux - FR
ORGANIZER:LAGACHE PHOTOGRAPHIE
END:VEVENT
END:VCALENDAR
