BEGIN:VCALENDAR
VERSION:2.0
CALSCALE:GREGORIAN
METHOD:PUBLISH
BEGIN:VEVENT
SUMMARY:MARIPOSA Festival 17 & 18 juillet 2026
DTSTART:20260717T150000Z
DTEND:20260719T000000Z
DTSTAMP:20260422T172709Z
CATEGORIES:
DESCRIPTION:
LOCATION: 16160 Gond-Pontouvre - FR
ORGANIZER:Association Mariposa
END:VEVENT
END:VCALENDAR
