BEGIN:VCALENDAR
VERSION:2.0
CALSCALE:GREGORIAN
METHOD:PUBLISH
BEGIN:VEVENT
SUMMARY:Hokinawa
DTSTART:20260201T160000Z
DTSTAMP:20260422T042452Z
CATEGORIES:
DESCRIPTION:Real Estatehttps://www.hokinawa.com/Address: Shibuya Dogenzaka
  Tokyu Building 2F-C\, 1-10-8 Dogenzaka\, Shibuya-ku\, Tokyo
LOCATION:  
ORGANIZER:Hokinawa
END:VEVENT
END:VCALENDAR
