BEGIN:VCALENDAR
VERSION:2.0
CALSCALE:GREGORIAN
METHOD:PUBLISH
BEGIN:VEVENT
SUMMARY:GRAND PRIX DE MEAUX-BOUTIGNY - 4 et 5 AVRIL 2026
DTSTART:20260404T063000Z
DTEND:20260405T160000Z
DTSTAMP:20260422T141116Z
CATEGORIES:
DESCRIPTION:
LOCATION:CHEMIN DE BARROIS - LE BORDET 77470 BOUTIGNY - FR
ORGANIZER:GOLF MEAUX-BOUTIGNY
END:VEVENT
END:VCALENDAR
