BEGIN:VCALENDAR
VERSION:2.0
CALSCALE:GREGORIAN
METHOD:PUBLISH
BEGIN:VEVENT
SUMMARY:ASTRACHAN // Support: tba
DTSTART:20260523T180000Z
DTSTAMP:20260425T225443Z
CATEGORIES:
DESCRIPTION:Astrachan is the solo project and surname of curly-haired indi
 e rock beefcake Ben Astrachan\, a self-taught analog tapehead who conjures
  up his special blend of starry-eyed lofi folk rock in the candlelit haze 
 of Puccini’s Studio (Astrachan’s basement bedroom/workspace) on Chicag
 o’s northwest side. Astrachan is also the co-founder of Berta Bigtoe (wi
 th Austin Koenigstein) and Astro Heart (with Ryan Gebhardt)\, and a tirele
 ss accomplice to fellow travelers Smushie \, No Lonesome (etc)\, brighteni
 ng stages across Chicago with his golden voice\, polytechnic abilities\, a
 nd good-natured boyish charm. His sophomore LP “Cleaner than Clean”\, 
 self-produced and recorded directly to tape in Puccini’s Studio\, is a n
 oisy upbeat rock-and-roll affair released via Happen Twice. (this is an ol
 d bio the new one will be dropped with the 3rd album announcement in early
  August)
GEO:48.2091561;16.3388426
LOCATION:24 U-Bahnbögen 1080 Wien - AT
ORGANIZER:ROLA Music
END:VEVENT
END:VCALENDAR
