BEGIN:VCALENDAR
VERSION:2.0
CALSCALE:GREGORIAN
METHOD:PUBLISH
BEGIN:VEVENT
SUMMARY:Discovery Piscine (Web) du 20 au 24 Avril 2026
DTSTART:20260420T070000Z
DTSTAMP:20260422T075231Z
CATEGORIES:
DESCRIPTION: \nStage d'initiation à la programmation informatique avec l
 a méthode 42 ! \n Découvrez le code et initiez-vous à la programmatio
 n ! \n Date et heure: Du lundi 20 au 24 avril 2026 \, de 9h à 17h \n Li
 eu: 42 Perpignan Occitanie\, 5 rue Pierre Curie 66000 Perpignan\nVous avez
  toujours voulu apprendre à coder mais ne saviez pas par où commencer ? 
 Rejoignez-nous pour une expérience immersive de 5 jours où vous découvr
 irez les fondamentaux de la programmation\, même sans aucune expérience 
 préalable en informatique !\n Pourquoi participer ?\n• Pas besoin de co
 nnaissances spécifiques en informatique\n• Programme intensif de 5 jour
 s pour tous à partir de 16 ans\n• Découverte du code\, création de vo
 tre première page web avec HTML et CSS\n• Pas de cours traditionnels\, 
 mais un apprentissage collaboratif entre pairs\n• Expérience pratique e
 t concrète\, axée sur les projets\n Comment ça marche ?\n• Inscriptio
 n gratuite via weezevent\n• Lieu : le campus 42 Perpignan Occitanie\n•
  Horaires : 9h00 - 17h00\, du lundi au vendredi\n À propos de @42Perpigna
 n : Il s'agit d'une formation unique en son genre\, ouverte à tous dès 1
 8 ans\, sans limite d'âge ni niveau d'études requis. Avec un taux d'empl
 oyabilité de 100%\, notre méthode d'apprentissage favorise l'autonomie e
 t la résolution de problèmes concrets.\nInscrivez-vous dès maintenant !
 \nNe manquez pas cette occasion unique de plonger dans le monde fascinant 
 de la programmation avec 42 Perpignan Occitanie ! Inscrivez-vous dès main
 tenant et préparez-vous à embarquer pour une semaine d'apprentissage enr
 ichissante. \n#PiscineDiscovery #42Perpignan #Programmation #Education\n 
GEO:42.6987104;2.8886805
LOCATION:5 rue Pierre Curie 66000 Perpignan - FR
ORGANIZER:42 PERPIGNAN OCCITANIE
END:VEVENT
END:VCALENDAR
