BEGIN:VCALENDAR
VERSION:2.0
CALSCALE:GREGORIAN
METHOD:PUBLISH
BEGIN:VEVENT
SUMMARY:Festival Cirque ou presque 2026
DTSTART:20260522T170000Z
DTEND:20260524T180000Z
DTSTAMP:20260424T174314Z
CATEGORIES:
DESCRIPTION:\nLe festival Cirque ou Presque\, c'est trois jours de folie 
 circassienne et musicale !\n\nDans le cadre somptueux et verdoyant du Châ
 teau des Pères\, les artistes sont sur la piste\, en plein air ou sous ch
 apiteau. Ils vous attendent\, petits et grands\, pour des spectacles aux r
 egistres variés\, alliant prouesse\, humour\, sensibilité ou poésie.\n\
 nÉvènement phare et incontournable du Pays de Châteaugiron Communauté\
 , Cirque ou Presque est un rendez-vous convivial à la découverte d’une
  palette riche et éclectique de spectacles vivants qui illustrent le tale
 nt des circassiens et leur inventivité toujours renouvelée.\n\nAlors que
  le spectacle commence !\n\n	 \n\nInfos pratiques\n\n\nTous les spectacle
 s en plein air sont gratuits\, seuls ceux sous chapiteaux et l'atelier de 
 pratique aérienne sont payants.\n\nLes billets ne sont ni repris\, ni éc
 hangés\, ni remboursés même en cas de vol.\n\nLes tarifs réduits s’a
 dressent aux moins de 18 ans\, aux étudiants\, aux demandeurs d’emploi 
 et aux bénéficiaires du RSA (sur présentation d’un justificatif) à l
 'entrée des chapiteaux.\n\nChaque personne\, sans distinction d'âge\, do
 it avoir un billet pour rentrer sous les chapiteaux. Il est déconseillé
  de venir avec un bébé\, le son étant trop fort pour leurs oreilles sen
 sibles et la configuration des chapiteaux ne permettant pas de sortir faci
 lement\, cela au détriment du spectacle.\n\nLes animaux de compagnie ne s
 ont pas acceptés sous chapiteaux.\n
LOCATION:Château des Pères 35150 Piré-Chancé - FR
ORGANIZER:Pays de Châteaugiron Communauté
END:VEVENT
END:VCALENDAR
