BEGIN:VCALENDAR
VERSION:2.0
CALSCALE:GREGORIAN
METHOD:PUBLISH
BEGIN:VEVENT
SUMMARY:Natalie DESSAY & Yvan CASSAR
DTSTART:20261124T190000Z
DTSTAMP:20260424T142119Z
CATEGORIES:
DESCRIPTION:\nBROADWAY JAZZ\n \nDeux immenses artistes réunis pour une s
 oirée exceptionnelle à Ajaccio.\nYvan Cassar\, pianiste virtuose\, chef 
 d’orchestre et arrangeur de renom\, et Natalie Dessay\, figure emblémat
 ique de la scène lyrique internationale\, partagent l’affiche pour un p
 rogramme vibrant autour de Broadway et du jazz.\nEntre grandes comédies m
 usicales américaines et standards swing intemporels\, le duo propose un v
 oyage élégant et rythmé\, porté par des arrangements raffinés et une 
 complicité artistique rare.\nIls seront accompagnés par Neïma Naouri\, 
 dont la voix lumineuse et expressive vient enrichir cette soirée placée 
 sous le signe du glamour et de l’émotion ainsi que du grand contrebassi
 ste Benoit Dunoyer.\n \n Une parenthèse new-yorkaise au cœur d’Ajacci
 o.\nRéservez dès maintenant vos places pour cet événement unique.\n \
 nInformations spectacle :  www.corsicacantabile.com\nInformations billett
 erie : contact@empire.corsica\n\nRéservations PMR : christelle@empire.co
 rsica 
GEO:41.9254665;8.738125199999999
LOCATION:30 Cours Napoléon 20000 Ajaccio - FR
ORGANIZER:Association Théâtre Empire
END:VEVENT
END:VCALENDAR
