BEGIN:VCALENDAR
VERSION:2.0
CALSCALE:GREGORIAN
METHOD:PUBLISH
BEGIN:VEVENT
SUMMARY:Massage Duo " pieds & tête"
DTSTART:20260128T080000Z
DTSTAMP:20260423T225848Z
CATEGORIES:
DESCRIPTION:Découvrez notre massage duo pied & tête: un soin complet ré
 alisé par deux praticiennes pour une détente totale.\n Les bienfaits: P
 our les pieds:\n . Stimule zones réflexes et circulation\n.Libère les t
 ensions nerveuses\n. Soulage la fatigue et procure une ralaxation profonde
 \n Pour la tête:\n. Libère les tensions du cuir chevelu\, de la nuque\n
 . Améliore la circulations du cuir sanguine et oxygène le cerveau\n. Fav
 orise le lâcher-prise et réduit le stress et charge mentale\n. Apaise le
 s maux de tête et les tensions nerveuses\n. Procure une sensation de calm
 e\n. Améliore la qualité du sommeil\nLe combo parfait pour harmoniser le
  corps\, relacher mentalement retrouver énergie et légèreté\, un soin 
 idéal pour vivre une profonde détente.\nDurée: 1 heure\nPrise de rendez
  vous par téléphone : 06 14 57 33 33 
LOCATION:39 rue du president rene coty 33440 AMBARES ET LAGRAVE - FR
ORGANIZER:Sylvie DUPIN
END:VEVENT
END:VCALENDAR
