BEGIN:VCALENDAR
VERSION:2.0
CALSCALE:GREGORIAN
METHOD:PUBLISH
BEGIN:VEVENT
SUMMARY:Journée "Rencontres Utilisateurs" à Toulouse
DTSTART:20261103T073000Z
DTSTAMP:20260423T211633Z
CATEGORIES:
DESCRIPTION:
GEO:45.7474576;4.8179449
LOCATION:15 rue Charles Lindbergh 31700 Toulouse - FR
ORGANIZER:ACD
END:VEVENT
END:VCALENDAR
