BEGIN:VCALENDAR
VERSION:2.0
CALSCALE:GREGORIAN
METHOD:PUBLISH
BEGIN:VEVENT
SUMMARY:Journée "Rencontres Utilisateurs" à Nantes
DTSTART:20260908T063000Z
DTSTAMP:20260423T210205Z
CATEGORIES:
DESCRIPTION:
GEO:45.7474576;4.8179449
LOCATION:34 rue de la Vrière 44240 La Chapelle-sur-Erdre - FR
ORGANIZER:ACD
END:VEVENT
END:VCALENDAR
