BEGIN:VCALENDAR
VERSION:2.0
CALSCALE:GREGORIAN
METHOD:PUBLISH
BEGIN:VEVENT
SUMMARY:Journée "Rencontres Utilisateurs" à Lille
DTSTART:20260707T063000Z
DTSTAMP:20260423T210205Z
CATEGORIES:
DESCRIPTION:
GEO:45.7474576;4.8179449
LOCATION:777 bis Pont de Flandres 59777 Lille - FR
ORGANIZER:ACD
END:VEVENT
END:VCALENDAR
