BEGIN:VCALENDAR
VERSION:2.0
CALSCALE:GREGORIAN
METHOD:PUBLISH
BEGIN:VEVENT
SUMMARY:Journée "Rencontres Utilisateurs" à Aix-en-Provence
DTSTART:20261201T073000Z
DTSTAMP:20260423T211400Z
CATEGORIES:
DESCRIPTION:
LOCATION:1335 chemin de Granet 13090 Aix-en-Provence - FR
ORGANIZER:ACD
END:VEVENT
END:VCALENDAR
