BEGIN:VCALENDAR
VERSION:2.0
CALSCALE:GREGORIAN
METHOD:PUBLISH
BEGIN:VEVENT
SUMMARY:Journée "Rencontres Utilisateurs" à Paris
DTSTART:20261013T063000Z
DTSTAMP:20260423T210247Z
CATEGORIES:
DESCRIPTION:
LOCATION:10 bis Rue du 4 septembre 75002 Paris - FR
ORGANIZER:ACD
END:VEVENT
END:VCALENDAR
