BEGIN:VCALENDAR
VERSION:2.0
CALSCALE:GREGORIAN
METHOD:PUBLISH
BEGIN:VEVENT
SUMMARY:Journée "Rencontres Utilisateurs" à Lyon
DTSTART:20260618T063000Z
DTSTAMP:20260423T210246Z
CATEGORIES:
DESCRIPTION:
GEO:45.7474576;4.8179449
LOCATION:Berge Bertha Von Suttner 69007 Lyon - FR
ORGANIZER:ACD
END:VEVENT
END:VCALENDAR
