BEGIN:VCALENDAR
VERSION:2.0
CALSCALE:GREGORIAN
METHOD:PUBLISH
BEGIN:VEVENT
SUMMARY:Oct 26 7 jrs Retraite Mange Prie Aime-toi Bali
DTSTART:20261011T000000Z
DTEND:20261016T160000Z
DTSTAMP:20260424T160708Z
CATEGORIES:
DESCRIPTION:\nRetraite Spirituelle\n\nMange Prie Aime-toi\n\nUn chemin ini
 tiatique d'amour de soi incarné\n\n11 au 17 octobre 2026\n\n \n\nL'île 
 des dieux\, Bali la puissante\, celle qui un jour il ya 20 ans\, est entr
 ée en amour avec Laurence\, la gardienne d\,espaces sacrés…qui vous in
 vite à entrer dans votre monde\,celui qui vous est destiné \n\nUne seul
 e ligne de conduite… l'amour\, l'amour…..et c'est avec amour et mon c
 œur que je vous présente la toute dernière retraite spirituelle\, « Ma
 nge\, Prie\, Aime toi »\n\nUn appel est lancé aux femmes qui ressentent 
 le besoin de revenir à elles\, de se regarder avec plus de douceur\, de s
 e réconcilier avec leur rythme\, leur corps et leur vérité intérieure.
 \n\nCette retraite est un espace sacré de transformation\, un temps suspe
 ndu pour déposer les jugements\, les exigences et les comparaisons\, et e
 ntamer ou approfondir un chemin de conscience d'amour de soi.\n\nIci\, on 
 ne vient pas se corriger. On vient s'accueillir.\n\nIl arrive un moment da
 ns la vie où l'âme murmure plus fort que le mental.\n\nUn moment où le 
 corps demande à être écouté\, où le cœur réclame de la douceur\, et
  où l'esprit aspire à la paix.\n\nLieu de retraite de formation\n\nVous 
 arrivez directement le 11 octobre 2026 à 9H le matin  \n\nBali : Villa B
 ali Sawwah Inda : Banjar Kulu\, Tampaksiring\, Bali (25 minutes d'Ubud)\n\
 n	 \n\nProgramme 7 jours animé par Laurence Vuitton \, vos journées com
 mencent vers 8H le matin et se terminent vers 19h et suivant où nous nous
  trouvons le soir sauf le dernier jour vers 16H\n\nLes activités de Yoga\
 , approche corporelle et énergétique s'adaptent à toutes les morphologi
 es\, débutants et comprises.\n\nLe programme peut être modifié en fonct
 ion des événements balinais (cérémonies… auxquels nous devrons nous 
 adapter.\n\n Tous les repas sont pris en commun de 3 à 5€ suivant vos 
 envies…\n\n Modalités de paiement\n\nTarif de la retraite « Mange Pri
 e Aime-toi » de 7 jours 6 nuits : 1750€ avec hébergement en chambre pa
 rtagée\, pas de solo.\n\nDates : Du 11 au 17 octobre 2026\n\nLe nombre de
  places est limité à 8 personnes – Inscription confirmée après réce
 ption du paiement des arrhes .\n\nRéservation par arrhes à verser à l'i
 nscription : Lien weezevent 100 € \n\nSolde à régler sur place : 1650
  € le 1er jour du stage en espèce ou virement \n\n	 \n\n  \n\nNOS P
 RIX COMPRENNENT :\n\n \n\n- Le séjour de 6 nuits Villa Bali Sawwah Inda 
 en chambre double et avec petits-déjeuners\n\n- Les transports sur place
  \n\n- L'accompagnement lors de votre retraite par Laurence Vuitton\, inc
 luant les activités et visites suivantes :\n\no Les ateliers d'épanouiss
 ement personnels : Conscience\, respiration\, méditation\, yoga \n\no Les
  séances privées d'accompagnement coaching avec Laurence Vuitton    \n
 \no Les cérémonies de purification par les prêtres balinais   \n\no La
  bénédiction et la séance de méditation par le prêtre balinais   \n\
 no Le parcours initiatique dans les rizières   \n\no La méditation et s
 éance de purification avec la chamane    \n\no La visite et la baignade
  à la cascade   \n\no Les entrées aux temples   \n\no Les séances de 
 watsu\, cœur intérieur    \n\no 2 massages balinais traditionnels ayur
 védiques\, énergétiques    \n\n \n\n- L'accompagnement par un guide
  local francophone\, traduction en français\n\n \n\nNOS PRIX NE COMPRENN
 ENT PAS :\n\n \n\n- Les assurances (obligatoire)   \n\n- Le transport a
 érien France > Bali aller et retour       \n\n- Le visa       \n\n-
  Les transferts aéroport Denpasar > hôtel\, hôtel/aéroport Denpasar  
       \n\n- Les déjeuners et dîners pendant le séjour        \n\
 n- Les boissons pendant le séjour       \n
LOCATION:Bali Sawah Indah 80552 Tampaskiring  - ID
ORGANIZER:Laurence Vuitton
END:VEVENT
END:VCALENDAR
