BEGIN:VCALENDAR
VERSION:2.0
CALSCALE:GREGORIAN
METHOD:PUBLISH
BEGIN:VEVENT
SUMMARY:BEAUTY PARTY à LAVAL
DTSTART:20260207T093000Z
DTEND:20260207T153000Z
DTSTAMP:20260424T040734Z
CATEGORIES:
DESCRIPTION:\nNU SKIN Beauty Party – Expérience soin & bien-être\n\n	
  \n\n	Venez découvrir\, tester et ressentir des produits de soin et de b
 ien-être reconnus pour leurs réels résultats\, et constatez par vous-m
 ême leurs effets dès la première utilisation.\n\n	 \n\n	Au cours de ce
 t événement\, vous aurez l’opportunité d’expérimenter des technolo
 gies innovantes dédiées à la beauté de la peau et au bien-être global
 \, dans une atmosphère conviviale et bienveillante. Chaque participante p
 ourra prendre le temps de découvrir les produits\, poser ses questions et
  vivre une expérience personnalisée.\n\n	 \n\n	Nous vous accueillons po
 ur un moment de partage\, de découverte et de détente\, pensé pour vous
  permettre de vous recentrer sur vous\, tout en repartant avec des solutio
 ns concrètes et efficaces.\n\n	 \n\n	Un rendez-vous idéal pour allier p
 laisir\, bien-être et résultats visibles.\n
LOCATION:Rue Ferdinand Buisson 53810 CHANGE - FR
ORGANIZER:Gaëlle FAURE
END:VEVENT
END:VCALENDAR
