BEGIN:VCALENDAR
VERSION:2.0
CALSCALE:GREGORIAN
METHOD:PUBLISH
BEGIN:VEVENT
SUMMARY:Open France Canet 66
DTSTART:20260717T060000Z
DTEND:20260722T190000Z
DTSTAMP:20260423T125114Z
CATEGORIES:
DESCRIPTION:
GEO:42.700774;3.0090573
LOCATION:Avenue des Hauts de Canet 66140 Canet-en-Roussillon - FR
ORGANIZER:Canet66natation
END:VEVENT
END:VCALENDAR
