BEGIN:VCALENDAR
VERSION:2.0
CALSCALE:GREGORIAN
METHOD:PUBLISH
BEGIN:VEVENT
SUMMARY:BUSTY AND THE BASS / THE ALLERGIES
DTSTART:20260627T200000Z
DTEND:20260628T010000Z
DTSTAMP:20260423T232410Z
CATEGORIES:
DESCRIPTION:Apertura de puertas: 21:30 horas\nInicio concierto BUSTY AND T
 HE BASS: 22:00 horas\nInicio concierto THE ALLERGIES:  23:30 horas\nHay s
 ervicio de comida y bebida.\nCualquier persona independientemente de su ed
 ad deberá adquirir entrada\nNo está permitido la entrada de animales\n 
LOCATION:Calle Marqués de Tamarón - Planta 0 - Puerta de la Segur 11150 
 Vejer de la Frontera - ES
ORGANIZER:JAZZ VEJER SC
END:VEVENT
END:VCALENDAR
