BEGIN:VCALENDAR
VERSION:2.0
CALSCALE:GREGORIAN
METHOD:PUBLISH
BEGIN:VEVENT
SUMMARY:Repas de la Saint Valentin
DTSTART:20260214T110000Z
DTEND:20260214T200000Z
DTSTAMP:20260425T115545Z
CATEGORIES:
DESCRIPTION:A l'occasion de la Saint Valentin\, nous vous proposons un men
 u unique.\nPour une meilleure organisation\, nous prévoyons un service un
 ique pour le déjeuner et 2 services pour le dîner.\nPour le déjeuner ar
 rivée ppossible entre 12h et 13h. \nPour le diner : arrivée à 19h\, la
  table devra être libérée à 20h45 ou arrivée à 21h.\nNous restons jo
 ignable via contact@gensheureux.fr\nou au 02.47.20.98.10\n \nMenu du dîn
 er de la Saint-Valentin\n \n"L’amour est un partage\, une combinaison\,
  une communion"\nNous vous proposons alors pour ce jour\, un mélange de m
 ets\, \nà partager.....ou pas\n \nDélicat et attentionné\nFleur de foi
 e gras au sésame et wasabi\, Biscuit de St jacques au thé et algues\, te
 mpura de capucine au caviar de la mer.\nEveil des papilles\nRaviolo de pom
 me et céleri posé sur un bouillon au poulet & agrumes.\nA travers les ye
 ux\nPomme de ris de veau laquée a la mangue\, escalope de foie gra\, comb
 awa et baies MA KHAEN\, St Jacques scnackées à la betterave\, grenade et
  hibiscus.\nBulle de joie\nSphère de thé blanc aux agrumes et thé noir\
 , marmelade pommes\, citron\, thym & verveine\, jus de graines de kororima
 .\nPas feutrés\nQuelques mignardises pour le départ.\n \nTarif : 69€ 
 par personne\, sans boisson.\n \n 
GEO:47.394663;0.6844469999999999
LOCATION:5 Rue Marceau 37000 Tours - FR
ORGANIZER:Restaurant Les Gens Heureux
END:VEVENT
END:VCALENDAR
