BEGIN:VCALENDAR
VERSION:2.0
CALSCALE:GREGORIAN
METHOD:PUBLISH
BEGIN:VEVENT
SUMMARY:Tournée FRANCE 2026 - TOULOUSE
DTSTART:20260411T190000Z
DTEND:20260412T034500Z
DTSTAMP:20260423T222542Z
CATEGORIES:
DESCRIPTION:\n’Ia ora na à tous \n\n	 \n\nC’est avec une immense joi
 e que nous vous annonçons les ateliers de danse polynésienne\, organisé
 s par O Tahiti Workshop en collaboration avec l’association Ori Heitiare
  Tahiti\, dans le cadre de la tournée en France métropolitaine.\n\nOuver
 ts à tous les niveaux\, ces ateliers sont une magnifique occasion de vivr
 e un moment de culture\, de technique et de convivialité\, dans le pur es
 prit du ’Ori Tahiti.\n\n	 \n\n⸻\n\n TOULOUSE – Samedi 11 Avril 2026
 \n\n Salle C2 - Maison des sports - Rue Du Puy Sancy - 31240 Saint Jean\n\
 n 09h00 – 17h45\n\n⸻\n\n PAS DE BASE\n\n 09h00 – 10h30\n\nAtelier : 
 Pas de Ori Tahiti sur les Pehe de Base\n	Immergez-vous dans les fondamenta
 ux du Ori Tahiti ! Découvrez les pas de base (tamau\, varu\, te’i\, e
 tc.) en harmonie avec les percussions traditionnelles\, et apprenez à con
 struire un répertoire personnalisé. Cet atelier est idéal pour :\n\n\nM
 aîtriser les bases et explorer des variantes.\n\nRéaliser une chorégrap
 hie simple tout en travaillant la posture et la coordination.\n\nDécouvri
 r la richesse culturelle polynésienne.\n\n\n⸻\n\n TAHITO \n\n 10h30 –
  12h00\n\nDécouvrez l’énergie puissante et traditionnelle de l’Ote
 ’a dans sa version « Tahito » (ancestrale) :\n\n\nPrécision et ra
 pidité : travail sur la vitesse d’exécution\, la netteté des pas et 
 la synchronisation en groupe.\n\nTransitions fluides : enchaînements dyn
 amiques entre différentes positions et séquences\, propres au style Tahi
 to.\n\nRythmes traditionnels : immersion dans les percussions polynésien
 nes (to’ere\, pahu) pour ressentir et exprimer l’intensité caractéri
 stique de l’Ote’a.\n\n\n⸻\n\n OTEA\n\n 14h30 – 16h00\n\nPrêt à r
 elever le défi ? Le Ote’a\, danse emblématique de la Polynésie\, se
  concentre sur l’apprentissage des pas de base\, avec un travail sur la 
 rapidité\, la précision et la synchronisation. Il inclut des transitions
  fluides et dynamiques entre les positions\, ainsi que des exercices pour 
 améliorer la coordination des bras et des pieds. Les participants appliqu
 eront ces techniques dans des séquences chorégraphiques intégrant chang
 ements de rythme et percussions polynésiennes\, afin d’exprimer l’én
 ergie et l’intensité caractéristiques de l’Ote’a.\n\n⸻\n\n APARI
 MA\n\n 16h15 – 17h45\n\nLaissez-vous emporter par la douceur et la poé
 sie de l’Aparima :\n\n\nGestuelle fluide : mouvements des mains et des
  bras qui racontent une histoire\, symbolisant la grâce polynésienne.\n\
 nCoordination et interprétation : subtilité du déplacement du corps po
 ur accompagner des pas plus lents et mélodieux.\n\nExpression artistique
  : mise en valeur des émotions\, des thèmes et des paroles souvent chan
 tés dans l’Aparima.\n\nHarmonie et storytelling : le travail chorégra
 phique se concentre sur la narration à travers le geste\, renforçant la 
 connexion entre danseurs et spectateurs.\n\n\n⸻\n\nNous avons hâte de v
 ous retrouver à TOULOUSE pour une journée de danse et de culture polyné
 sienne\, portée par la passion de Tumata\, l’énergie d’OTW\, et l’
 engagement de l’association Ori Heitiare Tahiti.\n\n	 \n\nMāuruuru roa
  \n\nTumata & O Tahiti Workshop\n
LOCATION:Rue Du Puy Sancy 31240  L'union - FR
ORGANIZER:ORI TAHITI TUMATA
END:VEVENT
END:VCALENDAR
