BEGIN:VCALENDAR
VERSION:2.0
CALSCALE:GREGORIAN
METHOD:PUBLISH
BEGIN:VEVENT
SUMMARY:TAHITI YOGA FESTIVAL 2026_RESIDENTS
DTSTART:20261017T030000Z
DTEND:20261019T040000Z
DTSTAMP:20260421T185546Z
CATEGORIES:
DESCRIPTION:'ia ora na e maeva!\n \n \nLe Tahiti Yoga Festival est un li
 eu de rencontre et de partages uniques\, à la croisée des chemins du mon
 de. Il aura lieu dans le cadre idyllique de l'hôtel Tahiti Pearl Beach 
 à Arue\, du vendredi 16 au dimanche 18 octobre 2026.\n \nSur nos terres 
 bénies d’abondance\, il offre une opportunité précieuse et rare : cel
 le d’apprendre auprès d’enseignants\, guides et gardiens de sagesses 
 ancestrales.  Chacun a été choisi pour la profondeur de ses enseignemen
 ts\, l’authenticité de sa transmission\, et la présence charismatique 
 qu’il incarne.\n \nQue vous soyez novices ou déjà engagés sur la voi
 e\, l’invitation est la même : rester des étudiants du vivant\, suivre
  la voie du cœur\, tisser du lien\, et partager la richesse des sagesses 
 anciennes et autochtones...\n \n...Ressentir la puissance de notre nature
  intérieure\, et l’écho du monde dans chaque mouvement\, chaque souffl
 e\, chaque battement de cœur.\n \nCe festival ouvre un espace de relianc
 e\, de mémoires\, d’activation\, de libération et d’évolution essen
 tielle\, pour rêver\, incarner\, et bâtir une humanité plus harmonieuse
 \, plus alignée\, plus consciente.\n \nChanger le monde commence par soi
 . Lorsque nous activons la transformation intérieure\, nous élevons le c
 ollectif. Et lorsque le collectif s’élève\, nous harmonisons le chant 
 du monde.\nSoyons les acteurs d’un changement vrai et profond\, au-delà
  des grands mots et des façades. Devenons des ancêtres dignes pour les g
 énérations à venir.\n \nIl est temps de revenir au sacré\, d’honore
 r la vie\, et d’être les véhicules de la transformation\, en hommage 
 à ceux qui nous ont précédés\, et par amour et respect pour ceux qui v
 iendront après nous.    \n \n \n \nA QUOI S'ATTENDRE?\n \nUn océan
  riche d’ateliers inspirants\, de séances de yoga et de méditation nou
 rrissantes\, de conférences éclairantes\, de rencontres authentiques\, d
 e pratiques de bien-être régénérantes et de musique.\n \nQue vous soy
 ez pratiquants expérimentés ou débutants curieux\, le Tahiti Yoga Festi
 val a quelque chose à offrir à chacun.\n \n \nUn voyage unique:\n\n\nD
 es sessions de yoga et pratiques bien-être\n\n\nDes ateliers et activité
 s culturelles\n\n\nDes conférences enrichissantes et conversations inspir
 antes\n\n\nDes moments de partage\, de joie et de magie \n \n\n\nEN BREF
 :\n\n16 octobre : cérémonie d’ouverture et événement du soir \n17 -
  18 octobre : sessions complètes\, ateliers\, activités culturelles\, so
 irées \n\n*** Suivez-nous sur les réseaux pour ne rien manquer! Ou rend
 ez-vous sur notre site (en cours de refonte pour vous offrir une meilleure
  navigation bilingue): https://www.tahitiyogafest.com\n \nNotre engagemen
 t est de vous offrir une expérience indédite.    \n \n \nREJOIGNEZ-N
 OUS!\n \nVenez tels que vous êtes ! Aucune attente. Aucun jugement. Just
 e vous\, tels que vous êtes.\n \nLe Tahiti Yoga Festival est un espace p
 our tous\, que vous soyez pratiquants chevronnés ou que vous posiez les 
 pieds sur un tapis pour la première fois. Ici\, il n’est pas nécessair
 e d’être autre que soi-même.  \n \n\nBillet non remboursable mais tr
 ansférable\nIndiquez clairement le nom de la personne qui recevra le Full
  Access Pass si c'est un cadeau. En cas d'achat de plusieurs pass d'accès
 \, merci de clairement mentionner chaque nom pour un check-in clair lors d
 e l'événement\nEn achetant un pass\, vous acceptez de recevoir les commu
 nications email relatives à l'événement  \nPour un règlement autre qu
 e par carte bancaire\, n'hésitez pas à nous contacter: contact@tahitiwel
 lnessspirit.com\n\n \n \nMERCI! MAURUURU!\nAvec joie de vous servir\,\nL
 'équipe Tahiti Yoga Festival  \n \n 
LOCATION:Matavai Bay  Arue - PF
ORGANIZER:Tahiti Wellness Spirit
END:VEVENT
END:VCALENDAR
