BEGIN:VCALENDAR
VERSION:2.0
CALSCALE:GREGORIAN
METHOD:PUBLISH
BEGIN:VEVENT
SUMMARY:Soirée un temps pour soi du Little Britain Café-4
DTSTART:20260307T183000Z
DTEND:20260307T213000Z
DTSTAMP:20260423T232410Z
CATEGORIES:
DESCRIPTION:
GEO:47.2295288;-1.5118182
LOCATION:75 Boulevard Auguste Peneau 44300 Nantes - FR
ORGANIZER:Le Little Britian Café
END:VEVENT
END:VCALENDAR
