BEGIN:VCALENDAR
VERSION:2.0
CALSCALE:GREGORIAN
METHOD:PUBLISH
BEGIN:VEVENT
SUMMARY: Assemblée Régionale Untec Bourgogne-Franche-Comté - Billetteri
 e Visiteurs Pro
DTSTART:20260327T073000Z
DTEND:20260327T160000Z
DTSTAMP:20260420T042102Z
CATEGORIES:
DESCRIPTION:\n\n		L'Untec Bourgogne-Franche-Comté organise sa prochaine A
 ssemblée Régionale le vendredi 27 mars 2026.\n\n		Chaque année l’év
 ènement évolue et nous sommes heureux de vous accueillir dans un lieu ex
 ceptionnel\, à la Saline Royale de Arc-et-Senans\, dans le Doubs.\n\n		L
 ’après-midi sera dédié au salon des industriels\, temps privilégié 
 pour découvrir les dernières innovations techniques et renforcer les éc
 hanges entre les différents partenaires de la filière du bâtiment.\n\nL
 e lieu : Saline Royale d'Arc-et-Senans\, EPCC Saline Royale Grande rue\
 , 25610 Arc et Senans\n\n		 \n\nLe programme :\n\n		14h-17h : salon des i
 ndustriels\n\n\n	 \n
LOCATION:EPCC Saline Royale Grande rue 25610  Arc et Senans - FR
ORGANIZER:Untec
END:VEVENT
END:VCALENDAR
