BEGIN:VCALENDAR
VERSION:2.0
CALSCALE:GREGORIAN
METHOD:PUBLISH
BEGIN:VEVENT
SUMMARY:Sina Kienou / RACONTE
DTSTART:20260502T130000Z
DTSTAMP:20260422T151519Z
CATEGORIES:
DESCRIPTION:
GEO:50.8776863;4.3548912
LOCATION:2 Rue du Champ de l'Eglise 1020 Bruxelles - BE
ORGANIZER:Maison de la création
END:VEVENT
END:VCALENDAR
