BEGIN:VCALENDAR
VERSION:2.0
CALSCALE:GREGORIAN
METHOD:PUBLISH
BEGIN:VEVENT
SUMMARY:CHILY
DTSTART:20260925T180000Z
DTSTAMP:20260420T183258Z
CATEGORIES:
DESCRIPTION:
LOCATION:211 Avenue Jean Jaurès 75019 Paris
ORGANIZER:TH6 MUSIC MUSIC ADASSAI INC
END:VEVENT
END:VCALENDAR
