BEGIN:VCALENDAR
VERSION:2.0
CALSCALE:GREGORIAN
METHOD:PUBLISH
BEGIN:VEVENT
SUMMARY: Conservatoire  "Les 30 ans de l'orgue St Vincent Merignac"
DTSTART:20260423T183000Z
DTSTAMP:20260423T161418Z
CATEGORIES:
DESCRIPTION:\nVincent Warnier est l'invité de ce récital pour le trenti
 ème anniversaire de l'orgue de St Vincent.\n\nA cette occasion\, un homma
 ge sera rendu à l'organiste Marie-Claire ALAIN\, qui a inauguré l'orgue 
 le 18 décembre 1994\, et dont nous fêtons cette année le centenaire.\n\
 nDans le cas où il n'y aurait plus de billets disponibles via ce lien con
 tactez nous par mail  :  i.gimenez@merignac.com\n\n	 \n
LOCATION:place Charles De Gaulle 33700 Merignac - FR
ORGANIZER:VILLE DE MERIGNAC
END:VEVENT
END:VCALENDAR
