BEGIN:VCALENDAR
VERSION:2.0
CALSCALE:GREGORIAN
METHOD:PUBLISH
BEGIN:VEVENT
SUMMARY:RECITAL CLASSIQUE "CARMEN DE BIZET" EN VERSION CONCERTANTE PIANO E
 T VIOLON AU CAFE PHILOSOPHIE
DTSTART:20260501T230000Z
DTEND:20260502T023000Z
DTSTAMP:20260420T213331Z
CATEGORIES:
DESCRIPTION:\n	Ce récital est en préparation depuis plusieurs mois… il
  est unique\, c’est donc un évènement et probablement un futur grand m
 illésime du Café Philosophie que nous vous proposons ce soir. Le Café P
 hilosophie est fan du travail réalisé par Tomasz SZCZEPANSKI au Ciné Th
 éâtre du Lamentin. Sa dernière création avec le GWADA CLASSICAL FESTIV
 AL fut l’Opéra CARMEN de Bizet\, les 13 et 14 décembre dernier qui rem
 porta un grand succès auprès du public. Ce soir\, Tomasz SZCZEPANSKI et 
 Nenad VOLAROV nous propose la version concertante de CARMEN en duo : pian
 o et violon et c’est magique tant ces deux virtuoses se connaissent bien
  et maîtrise toutes les subtilités musicales d’une telle œuvre majeur
 e. C’est donc une nouvelle exclusivité que nous vous proposons ce soir.
  Tarif : 25 € INFOLINE : 06 90 74 11 12\n\n	 \n
LOCATION:Imm. Ary Encelade - ZI Jarry - Bd Houelbourg 97122 Baie Mahault -
  GP
ORGANIZER:Café Philosophie
END:VEVENT
END:VCALENDAR
