BEGIN:VCALENDAR
VERSION:2.0
CALSCALE:GREGORIAN
METHOD:PUBLISH
BEGIN:VEVENT
SUMMARY:COTISATION ANNUELLE 2026
DTSTART:20251231T230000Z
DTEND:20261230T230000Z
DTSTAMP:20260422T085027Z
CATEGORIES:
DESCRIPTION:\nADHESION : Nouvelle inscription ou renouvellement  à l'As
 sociation AOC pour 2026\n\n	Pour vous inscrire :\n	Mettre le nombre de pa
 rticipants sur "Adhérents"\, puis "Suite".\n	Notez "Prénom\, nom\, etc..
 ."\n	Pour faire votre règlement\, laissez cocher "Carte bancaire"\, sino
 n la case "Réservation" vous obligera à envoyer votre chèque.\n	Remplir
  les infos de votre carte et cliquer sur "Acheter".\n\n	Il est inutile d'i
 mprimer votre billet.\n\n	Merci.\n
LOCATION:11 rue du Square 34680 ST GEORGES D ORQUES - FR
ORGANIZER:Association Œnoculturelle St Georges
END:VEVENT
END:VCALENDAR
