BEGIN:VCALENDAR
VERSION:2.0
CALSCALE:GREGORIAN
METHOD:PUBLISH
BEGIN:VEVENT
SUMMARY:BIRIBI TATTOO MEETING
DTSTART:20260606T090000Z
DTEND:20260607T180000Z
DTSTAMP:20260421T120418Z
CATEGORIES:
DESCRIPTION:
GEO:45.743999;4.8364568
LOCATION:44 Rue Victor Lagrange 69007 Lyon - FR
ORGANIZER:BIRIBI TATTOO MEETING
END:VEVENT
END:VCALENDAR
