BEGIN:VCALENDAR
VERSION:2.0
CALSCALE:GREGORIAN
METHOD:PUBLISH
BEGIN:VEVENT
SUMMARY:Ekron Surveyors
DTSTART:20251227T080000Z
DTSTAMP:20260420T120654Z
CATEGORIES:
DESCRIPTION:We are Chartered Building Surveyors in Ealing\, London caterin
 g to your property needs. Whether you need residential or commercial surve
 ying services\, we have you covered. Our Services include: Party Wall Surv
 eys\, Building Surveys Snagging Lists\, Schedules of Condition\, Dilapidat
 ions and morehttps://ekron.co.uk/Address: 3rd Floor - 86-90 Paul Street Lo
 ndoninfo@ekron.co.uk
LOCATION:  
ORGANIZER:Ekron Surveyors
END:VEVENT
END:VCALENDAR
