BEGIN:VCALENDAR
VERSION:2.0
CALSCALE:GREGORIAN
METHOD:PUBLISH
BEGIN:VEVENT
SUMMARY:Atelier graphothérapie sur le thème du printemps
DTSTART:20260421T123000Z
DTSTAMP:20260422T000357Z
CATEGORIES:
DESCRIPTION:\nLa graphothérapie a pour objectif de reprendre de manière 
 ludique l’apprentissage de l’écriture en vue d’une automatisation d
 e celle-ci.\n\nÀ l’aide de jeux\, d’activités de motricité fine et 
 d’exercices de dessin ou d’écriture\, les enfants travaillent la form
 ation des lettres\, la tenue de ligne et la gestion de l’espace\, dans u
 ne ambiance détendue et créative.\n\nPour les enfants et adolescents dè
 s 8 ans.\n
LOCATION:51 impasse de la mairie 62250 Bazinghen - FR
ORGANIZER:La terre des 2 caps
END:VEVENT
END:VCALENDAR
