BEGIN:VCALENDAR
VERSION:2.0
CALSCALE:GREGORIAN
METHOD:PUBLISH
BEGIN:VEVENT
SUMMARY:Annabel Law Productions
DTSTART:20251218T080000Z
DTSTAMP:20260421T194739Z
CATEGORIES:
DESCRIPTION:
LOCATION:  
ORGANIZER:Annabel Law Productions
END:VEVENT
END:VCALENDAR
