BEGIN:VCALENDAR
VERSION:2.0
CALSCALE:GREGORIAN
METHOD:PUBLISH
BEGIN:VEVENT
SUMMARY:Le Saviez-Vous ? Ouvrir son cabinet en 2026
DTSTART:20260204T180000Z
DTEND:20260204T203000Z
DTSTAMP:20260421T163812Z
CATEGORIES:
DESCRIPTION:\nLE SAVIEZ-VOUS ? - OUVRIR SON CABINET\n\nPar Erwann Le Corre
  - Annette K. Santé & Performance\n\nAvec Doctolib Pro\, D6D\, Prestonn I
 mmobilier & BMW Paris\n\n	------------------------------------------------
 --------\n\nEt si votre projet prenait forme ?\n\n	Ouvrir son cabinet\, c
 ’est bien plus qu’un choix professionnel : c’est une aventure\, une 
 vision\, un engagement.\n	Le temps d’une soirée\, venez rencontrer des 
 kinésithérapeutes installés qui partageront leur expérience\, leurs qu
 estionnements\, leurs choix et ce qu’ils referaient\, ou non\, aujourd
 ’hui.\n\n	Une soirée pour s’inspirer\, prendre du recul et se projete
 r concrètement dans son propre projet d’installation.\n\nProgramme pré
 visionnel :\n\n\n18h30 – Visite d’Annette K. & Jeu BMW (1 week-end à 
 gagner)\n\n\n\n19h00 – Présentation des intervenants : Parcours\, voc
 ation et vision du métier.\n\n\n\n19h30 – Interviews croisées : Écha
 nges autour des grands thèmes de la création d’un cabinet\n\n\n\n21h00
  – Conclusion : Et si c’était à refaire ?\n\n\n\n21h15 – Questions
  / Réponses & moment convivial (Food & Drinks)\n\n\n	Une soirée pensée 
 pour vous donner une vision globale\, concrète et réaliste de l’ouvert
 ure d’un cabinet\, dans une ambiance chaleureuse et propice aux échange
 s.\n\n\n\n			La genèse du projet\n\n\n\n			Les aspects financiers et juri
 diques\n\n\n\n			Le choix du local et du matériel\n\n\n\n			L’offre de 
 soins et la rentabilité\n\n\n\n			L’organisation et la gestion de l’h
 umain\n\n\n\n			La visibilité\, le réseau et le développement de l’ac
 tivité\n\n\n\nINTERVENANTS : \n\n\nPierre Poulain (Fondateur du cabinet 
 CORE Physio Sport\, ex Paris FC & Paris 13 Atletico\, @kineaste)\n\nClaire
  Hirigoyen (Fondatrice du cabinet Olympus Physio Sport\, @unekinette)\, \
 n\nPaul-Clotaire Trival (Kinésithérapeute et Entrepreneur\, accompagnem
 ent pour la création de cabinet\, @trimouv)\n\nErwann Le Corre (Directeu
 r Santé & Performance Annette K.\, ex Stade Français & Paris FC\, @erwa
 nn_lecorre)\, \n\nMélanie Lacau (Fondatrice du cabinet KINELYS\, ex Kin
 é JO Paris 2024\, @kinelys64)\n\nNicolas Landreau (Expert Kinésithérapi
 e - Doctolib Pro)\n\nLaurent Rodier (Co-gérant du cabinet D6D - Gestion 
 & Développement)\n\nJean-Baptiste Michaud (Spécialiste dans l'immobilier
  médical & paramédical\, Prestonn Immobilier)\n\n\nPARTENAIRES :\n\n\nDo
 ctolib Pro - https://info.doctolib.fr\n\nCapfinances - https://capfinanc
 es.fr\n\nPrestonn Immobilier - https://www.prestonn.com\n\nBMW Paris - h
 ttps://www.bmw-paris.fr/\n\n\nLIEU :\n\n	 \n\nPéniche Annette K. \n\nPo
 rt de Javel Bas \n\n75015 Paris\n\n	 \n\n	Parking Gratuit en face\, acc
 ès depuis le Pont Mirabeau\, descendre sur les quais de Seine\, longer la
  Seine (sur votre droite) et se garer face à la péniche. \n\n	Métro : 
 RER C (Garigliano / Javel)\, Ligne 10 (Javel)\, Tram T3 (Pont du Gariglian
 o)\n
LOCATION:Port de Javel Bas 75015 Paris - FR
ORGANIZER:ERWANN LE CORRE
END:VEVENT
END:VCALENDAR
