BEGIN:VCALENDAR
VERSION:2.0
CALSCALE:GREGORIAN
METHOD:PUBLISH
BEGIN:VEVENT
SUMMARY:Whisky Run 2026
DTSTART:20260411T060000Z
DTEND:20260411T180000Z
DTSTAMP:20260422T173546Z
CATEGORIES:
DESCRIPTION:\n	Samedi 11 Avril 2026\, la Maison du Whisky Réunion organis
 e la Ciquième édition du Whisky Run sur le thème "Gastronomique"\, au 
 sein de l'Orangerie à Sainte-Clotilde\, haut lieu d'événementiel\,de re
 stauration et de détente avec un service Spa.\n\n	L'événement propose c
 ette année deux dîners gastronomiques en accord Mets et Whiskies & en ac
 cord Mets & Rhums. Les dîners auront lieu le Samedi soir en clôture de l
 'événement dans 2 salles séparées. Chaque salles aura une capacité de
  30 couverts.\n\n	Au programme du Whisky Run de 10h à 22h\,\n\n\n		Dégus
 tations avec stands Whisky\, Rhum et Eaux de vie\n		Plus de 20 stands de d
 égustation en spiritueux Premium et Craft\n		 \n\n		Masterclasses avec a
 teliers animés par des experts\n		8 Masterclasses (whisky\, rhum et autre
 s eaux de vie) - durée 45 minutes\n		 \n\n		Espace Restauration et Bar t
 enu par une équipe de bartenders\n		Restauration et bar de l'Orangerie en
  continue\n		 \n\n		Boutique éphémère dédiée aux produits exclusifs 
 de l'événement\n		Produits dégustés et éditions limitées 2026\n		 \
 n\n		Atelier Complémentaires\n		Atelier Cigare et autres ateliers Surpris
 e\n		 \n\n		Espace Détente avec une soirée Concert Pop / Jazz\n\n\n	Les
  réservations pour la journée Whisky Run sont ouvertes au 15 Décembre e
 n prévente\, jusqu"au 25 Janvier.\n\n	Les réservations pour les dîners 
 seront ouvertes à partir de fin Janvier.\n\n\n		Dîner Accord Mets et Whi
 skies (Réservation séparées*) \n\n		Dîner Accord Mets et Rhums (Rése
 rvation séparées*)\n\n\n	Un Service de Navette entre Le Barachois de Sai
 nt-Denis et l'Orangerie sera proposé.\n	Les réservations de la navette s
 e feront à partir de fin Janvier.\n\n	Toute les informations détaillées
  sur www.whisky.re/whiskyrun ou par téléphone au 0262.21.31.19.\n\n	 \
 n
LOCATION:43 Rue Gabriel de Kerveguen 97490 Saionte-Clotilde - RE
ORGANIZER:LA MAISON DU WHISKY REUNON
END:VEVENT
END:VCALENDAR
