BEGIN:VCALENDAR
VERSION:2.0
CALSCALE:GREGORIAN
METHOD:PUBLISH
BEGIN:VEVENT
SUMMARY:Restaurant Le K'osy
DTSTART:20251213T183000Z
DTEND:20251213T223000Z
DTSTAMP:20260420T141351Z
CATEGORIES:
DESCRIPTION:
GEO:48.6792779;2.16647
LOCATION:  Les Ulis - FR
END:VEVENT
END:VCALENDAR
