BEGIN:VCALENDAR
VERSION:2.0
CALSCALE:GREGORIAN
METHOD:PUBLISH
BEGIN:VEVENT
SUMMARY:LOVELY KIZ FESTIVAL GOLD EDITION
DTSTART:20261127T190000Z
DTEND:20261129T220000Z
DTSTAMP:20260419T130752Z
CATEGORIES:
DESCRIPTION:\n	LOVELY KIZ FESTIVAL GOLD EDITION \n\n	UN FESTIVAL CONVIVIA
 L COMME ON AIME \n
LOCATION:Domaine de Thais - Sorigny   37250 Sorigny  - FR
ORGANIZER:SENSA'KIZ
END:VEVENT
END:VCALENDAR
