BEGIN:VCALENDAR
VERSION:2.0
CALSCALE:GREGORIAN
METHOD:PUBLISH
BEGIN:VEVENT
SUMMARY:L'Atrack'Son Festival 2026
DTSTART:20260821T163000Z
DTSTAMP:20260421T102138Z
CATEGORIES:
DESCRIPTION:L’Atrack’Son Festival\, c’est avant tout une programmati
 on électrisante mêlant électro\, rock\, pop\, etc.  Attendez-vous à v
 ibrer et danser sans relâche aux sons des 13 groupes talentueux qui monte
 ront sur scène durant ces deux jours inoubliables ainsi que 2 spectacles 
 pour petits et grands ! \nPlus d'infos sur www.latrackson.fr
LOCATION: 25390 ORCHAMPS-VENNES - FR
ORGANIZER:TRACK'N'ART
END:VEVENT
END:VCALENDAR
