BEGIN:VCALENDAR
VERSION:2.0
CALSCALE:GREGORIAN
METHOD:PUBLISH
BEGIN:VEVENT
SUMMARY:Tournoi de Mario Kart- Ligue de printemps
DTSTART:20260421T170000Z
DTSTAMP:20260420T044000Z
CATEGORIES:
DESCRIPTION:
GEO:48.4274749;-4.4608394
LOCATION:8 Avenue Baron Lacrosse 29850 Gouesnou - FR
ORGANIZER:Vertical Art
END:VEVENT
END:VCALENDAR
