BEGIN:VCALENDAR
VERSION:2.0
CALSCALE:GREGORIAN
METHOD:PUBLISH
BEGIN:VEVENT
SUMMARY:HYROX "Boost Yourself" - Sporting Form Blagnac
DTSTART:20251210T190000Z
DTEND:20260701T180000Z
DTSTAMP:20260423T162230Z
CATEGORIES:
DESCRIPTION:\nHYROX EXPERIENCE\n\nSporting Form Blagnac\nChaque premier me
 rcredi du mois – 20h00\n20 places uniquement – 18€ TTC / séance\n\n
 	Prépare-toi à repousser tes limites ! \n	Découvre une séance HYROX\,
  alliant course à pied\, renforcement musculaire et intensité collective
 \, dans une ambiance 100 % Sporting Form.\n\n	Sous la direction d'un coach
  de Sporting Form\, et accompagné de Cassandre Jeanneau\, athlète Hyrox
  passionnée\, tu participeras à un entraînement complet et accessible 
 à tous\, quel que soit ton niveau.\n\n	L’objectif : progresser\, transp
 irer et performer ensemble dans une atmosphère motivante et bienveillante
 .\n\n\nProgramme type : alternance de blocs course / renfo (sled\, lunges\
 , burpees\, farmer carry\, etc.)\, travail d’endurance et de puissance.\
 n\nDurée : 1h – échauffement\, bloc principal\, finisher.\n\nEncadreme
 nt : coachs Sporting Form & Cassandre Jeanneau.\n\n\n⚡️ À savoir :\n\
 n\n		Inscription obligatoire sur Weezevent.\n\n		Accueil dès 19h40 pour s
 can du billet à la réception Sporting Form.\n\n		Bracelet remis à l’e
 ntrée pour accéder à la zone Training.\n\n		Aucune inscription sur plac
 e le jour J.\n\n\nRejoins la communauté HYROX de Toulouse et vis une exp
 érience unique entre performance\, dépassement de soi et esprit d’équ
 ipe.\n	Places limitées à 20 participants – ne tarde pas à réserver t
 a place !\n\n	 \n
LOCATION:18 Boulevard Alain Savary 31700 Blagnac - FR
ORGANIZER:SAS SPORTING FORM
END:VEVENT
END:VCALENDAR
