BEGIN:VCALENDAR
VERSION:2.0
CALSCALE:GREGORIAN
METHOD:PUBLISH
BEGIN:VEVENT
SUMMARY:Discovery Piscine (Web) du 23 au 27 Février
DTSTART:20260223T080000Z
DTEND:20260227T160000Z
DTSTAMP:20260422T075139Z
CATEGORIES:
DESCRIPTION: \nStage d'initiation à la programmation informatique avec l
 a méthode 42 ! \n Découvrez le code et initiez-vous à la programmatio
 n ! \n Date et heure: Du lundi 23 au 27 février 2026 \, de 9h à 17h \n
  Lieu: 42 Perpignan Occitanie\, 5 rue Pierre Curie 66000 Perpignan\nVous a
 vez toujours voulu apprendre à coder mais ne saviez pas par où commencer
  ? Rejoignez-nous pour une expérience immersive de 5 jours où vous déco
 uvrirez les fondamentaux de la programmation\, même sans aucune expérien
 ce préalable en informatique !\n Pourquoi participer ?\n• Pas besoin de
  connaissances spécifiques en informatique\n• Programme intensif de 5 j
 ours pour tous à partir de 16 ans\n• Découverte du code\, création de
  votre première page web avec HTML et CSS\n• Pas de cours traditionnels
 \, mais un apprentissage collaboratif entre pairs\n• Expérience pratiqu
 e et concrète\, axée sur les projets\n Comment ça marche ?\n• Inscrip
 tion gratuite via weezevent\n• Lieu : le campus 42 Perpignan Occitanie\n
 • Horaires : 9h00 - 17h00\, du lundi au vendredi\n À propos de @42Perpi
 gnan : Il s'agit d'une formation unique en son genre\, ouverte à tous dè
 s 18 ans\, sans limite d'âge ni niveau d'études requis. Avec un taux d'e
 mployabilité de 100%\, notre méthode d'apprentissage favorise l'autonomi
 e et la résolution de problèmes concrets.\nInscrivez-vous dès maintenan
 t !\nNe manquez pas cette occasion unique de plonger dans le monde fascina
 nt de la programmation avec 42 Perpignan Occitanie ! Inscrivez-vous dès m
 aintenant et préparez-vous à embarquer pour une semaine d'apprentissage 
 enrichissante. \n#PiscineDiscovery #42Perpignan #Programmation #Education\
 n 
GEO:42.6987104;2.8886805
LOCATION:5 rue Pierre Curie 66000 Perpignan - FR
ORGANIZER:42 PERPIGNAN OCCITANIE
END:VEVENT
END:VCALENDAR
