BEGIN:VCALENDAR
VERSION:2.0
CALSCALE:GREGORIAN
METHOD:PUBLISH
BEGIN:VEVENT
SUMMARY:ATELIER “ABONDANCE SANS LIMITE” — MINDSET & EXPANSION FÉMIN
 INE
DTSTART:20251219T180000Z
DTEND:20251219T203000Z
DTSTAMP:20260420T043939Z
CATEGORIES:
DESCRIPTION:Un atelier puissant pour activer ton succès et ouvrir la port
 e à une nouvelle réalité.\n \nCet atelier a pour objectif de t’aider
  à dépasser les blocages qui freinent ton abondance\, transformer tes cr
 oyances limitantes et activer un mindset de réussite aligné avec qui tu 
 es réellement.\n \nC’est un moment de transformation\, d’expansion e
 t de sororité.\n \n⸻\n \nAU PROGRAMME\n• Exercices pratiques d’ab
 ondance\n• Libération des croyances limitantes\n• Activation du minds
 et de réussite\n• Partage en cercle\n• Introspection guidée\n• Net
 working inspirant\n \nChaque femme repart avec plus de clarté\, d’éla
 n et d’ouverture.\n \n⸻\n \nTU REPARTIRAS AVEC\n• Une nouvelle én
 ergie de succès\n• Une vision claire de ce que tu veux attirer\n• Un 
 mindset plus stable et plus confiant\n• Des clés concrètes pour active
 r l’abondance\n• Un cercle de femmes inspirantes\n \n⸻\n \nINFORMA
 TIONS PRATIQUES\n \nSmooth – Lyon\n19/12/2025\n⏱ Durée : 1h30\n???? 
 Tarif : 10 euros\n \n⸻\n \nPOUR QUI ?\n \nPour les femmes qui veulent
  :\n✔ attirer plus d’abondance dans leur vie\n✔ s’ouvrir à de nou
 velles opportunités\n✔ dépasser l’auto-sabotage\n✔ réseauter dans
  un cadre bienveillant\n✔ activer une nouvelle version d’elles-mêmes\
 n \n⸻\n \nPLACES LIMITÉES\n \nAtelier volontairement proposé en pet
 it groupe pour garantir une expérience profonde et authentique.
GEO:45.3405315;5.0835915
LOCATION: 69007 Lyon - FR
ORGANIZER:Un T'elle Succès
END:VEVENT
END:VCALENDAR
