BEGIN:VCALENDAR
VERSION:2.0
CALSCALE:GREGORIAN
METHOD:PUBLISH
BEGIN:VEVENT
SUMMARY:Atelier « Tester son offre et trouver ses premiers clients » e
 n Visio
DTSTART:20251205T180000Z
DTEND:20251205T193000Z
DTSTAMP:20260420T044000Z
CATEGORIES:
DESCRIPTION:Atelier exclusif : Tester son offre & trouver ses premiers cli
 ents\nUne soirée 100 % dédiée aux entrepreneuses qui veulent valider le
 ur idée\, attirer leurs premiers clients et passer concrètement à l’a
 ction.\nDes conseils pratiques\, des échanges authentiques et des retours
  d’expérience inspirants entre femmes ambitieuses.\n \nLe 5 décembre 
 2025 — de 19h à 20h30\nUn moment pour apprendre\, partager et booster t
 on projet !
LOCATION:  
ORGANIZER:Un T'elle Succès
END:VEVENT
END:VCALENDAR
