BEGIN:VCALENDAR
VERSION:2.0
CALSCALE:GREGORIAN
METHOD:PUBLISH
BEGIN:VEVENT
SUMMARY:Visite commentée Marc Séguin
DTSTART:20260611T180000Z
DTEND:20260924T180000Z
DTSTAMP:20260422T103132Z
CATEGORIES:
DESCRIPTION:\nVisite commentée avec un membre de l'équipe des guides sp
 écialisé.e.s du CADD\, les samedis de 14 h à 15 h\, du 10 juin au 27 s
 eptembre 2026.\n\nEn compagnie d’un guide\, découvrez les expositions e
 n cours et entrez dans le monde créatif des artistes et de leurs oeuvre
 s.\n\nInscription requise. Places limitées.\n\n	 \n\n\nSi vous êtes me
 mbre du Centre d'art Diane-Dufresne\, saisissez votre numéro de membre da
 ns la section prévue à cet effet. Une pièce justificative vous sera dem
 andée à votre arrivée. Si vous ne retrouvez plus votre numéro de membr
 e\, contactez-nous au 450 470-3010.\n\nSi vous êtes membres de la Socié
 té des musées du Québec\, saisissez le code SMQ. Une pièce justificat
 ive vous sera demandée à votre arrivée.\n\nSi vous êtes détenteur d'u
 ne Carte accompagnement loisir visant l'accessibilité des personnes han
 dicapées au loisir culturel\, saisissez le code CAL. Les conditions du p
 rogramme s'appliquent. Une pièce justificative vous sera demandée à vot
 re arrivée.\n\n\n	 \n\nPhoto © Guillaume Morin\n
LOCATION:11\, allée de la Création J6A 0C2 Repentigny - CA
ORGANIZER:Ville de Repentigny
END:VEVENT
END:VCALENDAR
